BEGIN:VCALENDAR
VERSION:2.0
PRODID:-//BIOTECH AUSTRIA - ECPv6.15.20//NONSGML v1.0//EN
CALSCALE:GREGORIAN
METHOD:PUBLISH
X-WR-CALNAME:BIOTECH AUSTRIA
X-ORIGINAL-URL:https://biotechaustria.org
X-WR-CALDESC:Veranstaltungen für BIOTECH AUSTRIA
REFRESH-INTERVAL;VALUE=DURATION:PT1H
X-Robots-Tag:noindex
X-PUBLISHED-TTL:PT1H
BEGIN:VTIMEZONE
TZID:Europe/Berlin
BEGIN:DAYLIGHT
TZOFFSETFROM:+0100
TZOFFSETTO:+0200
TZNAME:CEST
DTSTART:20220327T010000
END:DAYLIGHT
BEGIN:STANDARD
TZOFFSETFROM:+0200
TZOFFSETTO:+0100
TZNAME:CET
DTSTART:20221030T010000
END:STANDARD
BEGIN:DAYLIGHT
TZOFFSETFROM:+0100
TZOFFSETTO:+0200
TZNAME:CEST
DTSTART:20230326T010000
END:DAYLIGHT
BEGIN:STANDARD
TZOFFSETFROM:+0200
TZOFFSETTO:+0100
TZNAME:CET
DTSTART:20231029T010000
END:STANDARD
BEGIN:DAYLIGHT
TZOFFSETFROM:+0100
TZOFFSETTO:+0200
TZNAME:CEST
DTSTART:20240331T010000
END:DAYLIGHT
BEGIN:STANDARD
TZOFFSETFROM:+0200
TZOFFSETTO:+0100
TZNAME:CET
DTSTART:20241027T010000
END:STANDARD
END:VTIMEZONE
BEGIN:VEVENT
DTSTART;TZID=Europe/Berlin:20230126T163000
DTEND;TZID=Europe/Berlin:20230126T180000
DTSTAMP:20260423T070057
CREATED:20230122T190327Z
LAST-MODIFIED:20251113T104216Z
UID:1461-1674750600-1674756000@biotechaustria.org
SUMMARY:6. Task Force MEETING Communications + PR
DESCRIPTION:Am 26. Januar 2023 fand das bereits sechste Online-Treffen der Taskforce für Kommunikation & Öffentlichkeitsarbeit (TACO) von BIOTECH AUSTRIA statt. Unter dem Titel „Konferenzen 2023“ stand das Treffen ganz im Zeichen des Austauschs über bedeutende nationale und internationale Veranstaltungen\, die im Jahr 2023 für die Biotech-Community besonders relevant sind. \nZu Beginn erhielten die Teilnehmer ein kurzes Update des BIOTECH AUSTRIA-Vorstands\, bevor im Hauptteil verschiedene Biotech-Konferenzen vorgestellt und gemeinsam diskutiert wurden. Im Fokus standen dabei die Themen Sichtbarkeit\, Networking und die strategische Positionierung der österreichischen Biotech-Branche. Den Abschluss bildete ein Ausblick auf die kommenden Aktivitäten und Schwerpunkte der Taskforce. \nAn dem Treffen nahmen Vertreterinnen und Vertreter aus den Bereichen Geschäftsführung\, Kommunikation\, Investor Relations und Public Relations der Mitgliedsunternehmen von BIOTECH AUSTRIA teil. Sie nutzten die Gelegenheit\, Erfahrungen auszutauschen\, Synergien zu erkennen und gemeinsame Ansätze für eine wirkungsvollere Öffentlichkeitsarbeit zu entwickeln.
URL:https://biotechaustria.org/event/3-task-force-meeting-communications-pr/
ATTACH;FMTTYPE=image/jpeg:https://biotechaustria.org/wp-content/uploads/finance-meeting.jpg
END:VEVENT
END:VCALENDAR