BEGIN:VCALENDAR
VERSION:2.0
PRODID:-//BIOTECH AUSTRIA - ECPv6.15.20//NONSGML v1.0//EN
CALSCALE:GREGORIAN
METHOD:PUBLISH
X-WR-CALNAME:BIOTECH AUSTRIA
X-ORIGINAL-URL:https://biotechaustria.org
X-WR-CALDESC:Veranstaltungen für BIOTECH AUSTRIA
REFRESH-INTERVAL;VALUE=DURATION:PT1H
X-Robots-Tag:noindex
X-PUBLISHED-TTL:PT1H
BEGIN:VTIMEZONE
TZID:Europe/Berlin
BEGIN:DAYLIGHT
TZOFFSETFROM:+0100
TZOFFSETTO:+0200
TZNAME:CEST
DTSTART:20240331T010000
END:DAYLIGHT
BEGIN:STANDARD
TZOFFSETFROM:+0200
TZOFFSETTO:+0100
TZNAME:CET
DTSTART:20241027T010000
END:STANDARD
BEGIN:DAYLIGHT
TZOFFSETFROM:+0100
TZOFFSETTO:+0200
TZNAME:CEST
DTSTART:20250330T010000
END:DAYLIGHT
BEGIN:STANDARD
TZOFFSETFROM:+0200
TZOFFSETTO:+0100
TZNAME:CET
DTSTART:20251026T010000
END:STANDARD
BEGIN:DAYLIGHT
TZOFFSETFROM:+0100
TZOFFSETTO:+0200
TZNAME:CEST
DTSTART:20260329T010000
END:DAYLIGHT
BEGIN:STANDARD
TZOFFSETFROM:+0200
TZOFFSETTO:+0100
TZNAME:CET
DTSTART:20261025T010000
END:STANDARD
END:VTIMEZONE
BEGIN:VEVENT
DTSTART;TZID=Europe/Berlin:20251126T110000
DTEND;TZID=Europe/Berlin:20251126T123000
DTSTAMP:20260423T065503
CREATED:20251106T085404Z
LAST-MODIFIED:20251216T083221Z
UID:3024-1764154800-1764160200@biotechaustria.org
SUMMARY:Navigating Patent Law - Insights for Biotech Innovators
DESCRIPTION:ONLINE WORKSHOP \nAm 26. November 2025 fand ein exklusiver Online-Workshop für Biotechnologieunternehmen zu den Grundlagen des Patentrechts in der Biotechnologie- und Pharmaindustrie statt. Die Teilnehmenden erhielten praxisnahe Einblicke in zentrale Patentkonzepte\, Fallstudien sowie Budgetüberlegungen und lernten\, wie ein strategisches Patentportfolio innovationsgetriebenes Wachstum unterstützen kann. \nReferentin war Annelie Wünsche\, europäische und deutsche Patentanwältin sowie Partnerin im Life-Science-Team der IP-Kanzlei Maiwald. Seit über 15 Jahren berät sie Unternehmen beim Aufbau erfolgreicher Patentportfolios in Biotechnologie und Pharmazie\, insbesondere an der Schnittstelle zu Digitalisierung und KI. \nMaiwald\, eine der führenden IP-Kanzleien Deutschlands und förderndes Mitglied\, verfügt über umfassende Expertise in den Life Sciences. Ein spezialisiertes Suchteam für Pharma und Biotechnologie liefert maßgeschneiderte Patentlandschaftsanalysen und strategische Entscheidungsgrundlagen – insbesondere für Biotech-Start-ups. \nDer Workshop vermittelte den Teilnehmenden fundierte Grundlagen und praxisnahe Orientierung für den strategischen Umgang mit Patenten in der Biotechnologie.
URL:https://biotechaustria.org/event/navigating-patent-law-insights-for-biotech-innovators/
ATTACH;FMTTYPE=image/jpeg:https://biotechaustria.org/wp-content/uploads/Praesentation-LinkedIn-Post.jpg
END:VEVENT
END:VCALENDAR